BEGIN:VCALENDAR
VERSION:2.0
PRODID:-//St. Charles Catholic School - ECPv6.15.20//NONSGML v1.0//EN
CALSCALE:GREGORIAN
METHOD:PUBLISH
X-ORIGINAL-URL:https://www.stccs.ca
X-WR-CALDESC:Events for St. Charles Catholic School
REFRESH-INTERVAL;VALUE=DURATION:PT1H
X-Robots-Tag:noindex
X-PUBLISHED-TTL:PT1H
BEGIN:VTIMEZONE
TZID:America/Winnipeg
BEGIN:DAYLIGHT
TZOFFSETFROM:-0600
TZOFFSETTO:-0500
TZNAME:CDT
DTSTART:20250309T080000
END:DAYLIGHT
BEGIN:STANDARD
TZOFFSETFROM:-0500
TZOFFSETTO:-0600
TZNAME:CST
DTSTART:20251102T070000
END:STANDARD
BEGIN:DAYLIGHT
TZOFFSETFROM:-0600
TZOFFSETTO:-0500
TZNAME:CDT
DTSTART:20260308T080000
END:DAYLIGHT
BEGIN:STANDARD
TZOFFSETFROM:-0500
TZOFFSETTO:-0600
TZNAME:CST
DTSTART:20261101T070000
END:STANDARD
BEGIN:DAYLIGHT
TZOFFSETFROM:-0600
TZOFFSETTO:-0500
TZNAME:CDT
DTSTART:20270314T080000
END:DAYLIGHT
BEGIN:STANDARD
TZOFFSETFROM:-0500
TZOFFSETTO:-0600
TZNAME:CST
DTSTART:20271107T070000
END:STANDARD
END:VTIMEZONE
BEGIN:VEVENT
DTSTART;VALUE=DATE:20260427
DTEND;VALUE=DATE:20260428
DTSTAMP:20260419T220111
CREATED:20260410T200319Z
LAST-MODIFIED:20260410T200319Z
UID:10014755-1777248000-1777334399@www.stccs.ca
SUMMARY:K-2 & 6 Star Dome Experience
DESCRIPTION:
URL:https://www.stccs.ca/event/k-2-6-star-dome-experience/
END:VEVENT
BEGIN:VEVENT
DTSTART;TZID=America/Winnipeg:20260427T113000
DTEND;TZID=America/Winnipeg:20260427T120000
DTSTAMP:20260419T220112
CREATED:20260416T210200Z
LAST-MODIFIED:20260416T211106Z
UID:10014781-1777289400-1777291200@www.stccs.ca
SUMMARY:Grade 7 Mixed Doubles Badminton Practice | 11:35 - 12:10
DESCRIPTION:
URL:https://www.stccs.ca/event/grade-7-mixed-doubles-badminton-practice-1135-1210/2026-04-27/
END:VEVENT
BEGIN:VEVENT
DTSTART;TZID=America/Winnipeg:20260427T113000
DTEND;TZID=America/Winnipeg:20260427T120000
DTSTAMP:20260419T220112
CREATED:20260416T210231Z
LAST-MODIFIED:20260416T211048Z
UID:10014784-1777289400-1777291200@www.stccs.ca
SUMMARY:Grade 8 Mixed Doubles Badminton Practice | 11:35 - 12:10
DESCRIPTION:
URL:https://www.stccs.ca/event/grade-8-mixed-doubles-badminton-practice-1135-1210/2026-04-27/
END:VEVENT
BEGIN:VEVENT
DTSTART;TZID=America/Winnipeg:20260427T153000
DTEND;TZID=America/Winnipeg:20260427T163000
DTSTAMP:20260419T220112
CREATED:20260416T210832Z
LAST-MODIFIED:20260416T210832Z
UID:10014789-1777303800-1777307400@www.stccs.ca
SUMMARY:Grade 7 & 8 *Boys & Girls* Badminton Practice (Singles & Doubles) | 3:30 - 4:30pm
DESCRIPTION:Note – Mixed Doubles Practice is during Lunch. This event is the Singles and Doubles practice for both the boys and girls in grade 7 and 8.
URL:https://www.stccs.ca/event/grade-7-8-boys-girls-badminton-practice-singles-doubles-330-430pm/
END:VEVENT
BEGIN:VEVENT
DTSTART;VALUE=DATE:20260428
DTEND;VALUE=DATE:20260429
DTSTAMP:20260419T220112
CREATED:20250616T165635Z
LAST-MODIFIED:20250616T171304Z
UID:10013164-1777334400-1777420799@www.stccs.ca
SUMMARY:PML Recital 11:30-12:30 (basement)
DESCRIPTION:Thurs Nov 6 \nTues Dec 2 \nThurs Jan 29 \nTues Mar 3 \nTues Apr 28 \nThurs May 28
URL:https://www.stccs.ca/event/pml-recital-1130-1230-basement/2026-04-28/
END:VEVENT
BEGIN:VEVENT
DTSTART;VALUE=DATE:20260428
DTEND;VALUE=DATE:20260429
DTSTAMP:20260419T220112
CREATED:20260309T211134Z
LAST-MODIFIED:20260309T211134Z
UID:10014750-1777334400-1777420799@www.stccs.ca
SUMMARY:Badminton Tournament Dakota Field House
DESCRIPTION:
URL:https://www.stccs.ca/event/badminton-tournament-dakota-field-house/
END:VEVENT
BEGIN:VEVENT
DTSTART;VALUE=DATE:20260428
DTEND;VALUE=DATE:20260429
DTSTAMP:20260419T220112
CREATED:20221003T135759Z
LAST-MODIFIED:20250914T190343Z
UID:10013763-1777363200-1777395600@www.stccs.ca
SUMMARY:Advisory
DESCRIPTION:
URL:https://www.stccs.ca/event/advisory-7/2026-04-28/
END:VEVENT
BEGIN:VEVENT
DTSTART;VALUE=DATE:20260429
DTEND;VALUE=DATE:20260430
DTSTAMP:20260419T220112
CREATED:20250110T203512Z
LAST-MODIFIED:20260112T192357Z
UID:10013804-1777420800-1777507199@www.stccs.ca
SUMMARY:Musical Practice
DESCRIPTION:
URL:https://www.stccs.ca/event/musical-practice/2026-04-29/
END:VEVENT
BEGIN:VEVENT
DTSTART;VALUE=DATE:20260429
DTEND;VALUE=DATE:20260430
DTSTAMP:20260419T220112
CREATED:20260415T175544Z
LAST-MODIFIED:20260415T175544Z
UID:10014771-1777420800-1777507199@www.stccs.ca
SUMMARY:Musical Performance Assembly
DESCRIPTION:2:45 pm start
URL:https://www.stccs.ca/event/musical-performance-assembly/
END:VEVENT
BEGIN:VEVENT
DTSTART;VALUE=DATE:20260430
DTEND;VALUE=DATE:20260501
DTSTAMP:20260419T220112
CREATED:20250110T203512Z
LAST-MODIFIED:20260112T192357Z
UID:10013805-1777507200-1777593599@www.stccs.ca
SUMMARY:Musical Practice
DESCRIPTION:
URL:https://www.stccs.ca/event/musical-practice/2026-04-30/
END:VEVENT
BEGIN:VEVENT
DTSTART;VALUE=DATE:20260430
DTEND;VALUE=DATE:20260502
DTSTAMP:20260419T220112
CREATED:20260227T210216Z
LAST-MODIFIED:20260320T210430Z
UID:10014746-1777507200-1777679999@www.stccs.ca
SUMMARY:Uniform Fitting Days
DESCRIPTION:Uniform Fittings \nThursday\, April 30th \nNoon – 6pm  \nFriday\, May 1st  \n9am – 2pm
URL:https://www.stccs.ca/event/uniform-fittings-day/
END:VEVENT
BEGIN:VEVENT
DTSTART;TZID=America/Winnipeg:20260430T120000
DTEND;TZID=America/Winnipeg:20260430T180000
DTSTAMP:20260419T220112
CREATED:20260227T210124Z
LAST-MODIFIED:20260227T210124Z
UID:10014744-1777550400-1777572000@www.stccs.ca
SUMMARY:Uniform Fitting Times
DESCRIPTION:
URL:https://www.stccs.ca/event/uniform-fitting-times/2026-04-30/
END:VEVENT
BEGIN:VEVENT
DTSTART;VALUE=DATE:20260501
DTEND;VALUE=DATE:20260502
DTSTAMP:20260419T220112
CREATED:20260415T175634Z
LAST-MODIFIED:20260415T175634Z
UID:10014772-1777593600-1777679999@www.stccs.ca
SUMMARY:Roof Top Photo
DESCRIPTION:Starts right after announcements
URL:https://www.stccs.ca/event/roof-top-photo/
END:VEVENT
BEGIN:VEVENT
DTSTART;TZID=America/Winnipeg:20260501T090000
DTEND;TZID=America/Winnipeg:20260501T140000
DTSTAMP:20260419T220112
CREATED:20260227T210124Z
LAST-MODIFIED:20260227T210124Z
UID:10014745-1777626000-1777644000@www.stccs.ca
SUMMARY:Uniform Fitting Times
DESCRIPTION:
URL:https://www.stccs.ca/event/uniform-fitting-times/2026-05-01/
END:VEVENT
BEGIN:VEVENT
DTSTART;VALUE=DATE:20260502
DTEND;VALUE=DATE:20260503
DTSTAMP:20260419T220112
CREATED:20250915T035300Z
LAST-MODIFIED:20250915T035426Z
UID:10013815-1777708800-1777741200@www.stccs.ca
SUMMARY:Musical Practice | 8:30 am - 12:30 pm
DESCRIPTION:
URL:https://www.stccs.ca/event/musical-practice-830-am-1230-pm/2026-05-02/
END:VEVENT
END:VCALENDAR