BEGIN:VCALENDAR
VERSION:2.0
PRODID:-//St. Charles Catholic School - ECPv6.15.20//NONSGML v1.0//EN
CALSCALE:GREGORIAN
METHOD:PUBLISH
X-ORIGINAL-URL:https://www.stccs.ca
X-WR-CALDESC:Events for St. Charles Catholic School
REFRESH-INTERVAL;VALUE=DURATION:PT1H
X-Robots-Tag:noindex
X-PUBLISHED-TTL:PT1H
BEGIN:VTIMEZONE
TZID:America/Winnipeg
BEGIN:DAYLIGHT
TZOFFSETFROM:-0600
TZOFFSETTO:-0500
TZNAME:CDT
DTSTART:20230312T080000
END:DAYLIGHT
BEGIN:STANDARD
TZOFFSETFROM:-0500
TZOFFSETTO:-0600
TZNAME:CST
DTSTART:20231105T070000
END:STANDARD
BEGIN:DAYLIGHT
TZOFFSETFROM:-0600
TZOFFSETTO:-0500
TZNAME:CDT
DTSTART:20240310T080000
END:DAYLIGHT
BEGIN:STANDARD
TZOFFSETFROM:-0500
TZOFFSETTO:-0600
TZNAME:CST
DTSTART:20241103T070000
END:STANDARD
BEGIN:DAYLIGHT
TZOFFSETFROM:-0600
TZOFFSETTO:-0500
TZNAME:CDT
DTSTART:20250309T080000
END:DAYLIGHT
BEGIN:STANDARD
TZOFFSETFROM:-0500
TZOFFSETTO:-0600
TZNAME:CST
DTSTART:20251102T070000
END:STANDARD
END:VTIMEZONE
BEGIN:VEVENT
DTSTART;VALUE=DATE:20240507
DTEND;VALUE=DATE:20240508
DTSTAMP:20260422T124012
CREATED:20221003T140100Z
LAST-MODIFIED:20230825T175653Z
UID:10012682-1715040000-1715126399@www.stccs.ca
SUMMARY:Enrichment
DESCRIPTION:
URL:https://www.stccs.ca/event/enrichment-15/2024-05-07/
END:VEVENT
BEGIN:VEVENT
DTSTART;VALUE=DATE:20240508
DTEND;VALUE=DATE:20240511
DTSTAMP:20260422T124012
CREATED:20231006T203958Z
LAST-MODIFIED:20240925T040612Z
UID:10013129-1715126400-1715385599@www.stccs.ca
SUMMARY:Grs. 5 & 6 Camp
DESCRIPTION:
URL:https://www.stccs.ca/event/grs-5-6-camp-manitou/2024-05-08/
END:VEVENT
BEGIN:VEVENT
DTSTART;VALUE=DATE:20240512
DTEND;VALUE=DATE:20240513
DTSTAMP:20260422T124012
CREATED:20221003T221228Z
LAST-MODIFIED:20230829T162514Z
UID:10013057-1715472000-1715558399@www.stccs.ca
SUMMARY:Mother's Day
DESCRIPTION:
URL:https://www.stccs.ca/event/mothers-day-2/2024-05-12/
END:VEVENT
BEGIN:VEVENT
DTSTART;VALUE=DATE:20240514
DTEND;VALUE=DATE:20240515
DTSTAMP:20260422T124012
CREATED:20221003T140100Z
LAST-MODIFIED:20230825T175653Z
UID:10012683-1715644800-1715731199@www.stccs.ca
SUMMARY:Enrichment
DESCRIPTION:
URL:https://www.stccs.ca/event/enrichment-15/2024-05-14/
END:VEVENT
BEGIN:VEVENT
DTSTART;VALUE=DATE:20240520
DTEND;VALUE=DATE:20240521
DTSTAMP:20260422T124012
CREATED:20221003T140211Z
LAST-MODIFIED:20240625T203147Z
UID:10012690-1716163200-1716249599@www.stccs.ca
SUMMARY:Victoria Day | No School/BASC
DESCRIPTION:
URL:https://www.stccs.ca/event/victoria-day/2024-05-20/
END:VEVENT
BEGIN:VEVENT
DTSTART;VALUE=DATE:20240523
DTEND;VALUE=DATE:20240524
DTSTAMP:20260422T124012
CREATED:20230911T162326Z
LAST-MODIFIED:20230911T162326Z
UID:10013104-1716422400-1716508799@www.stccs.ca
SUMMARY:24th Annual SCCS Golf Tournament
DESCRIPTION:
URL:https://www.stccs.ca/event/24th-annual-sccs-golf-tournament/
END:VEVENT
END:VCALENDAR