BEGIN:VCALENDAR
VERSION:2.0
PRODID:-//St. Charles Catholic School - ECPv6.15.20//NONSGML v1.0//EN
CALSCALE:GREGORIAN
METHOD:PUBLISH
X-WR-CALNAME:St. Charles Catholic School
X-ORIGINAL-URL:https://www.stccs.ca
X-WR-CALDESC:Events for St. Charles Catholic School
REFRESH-INTERVAL;VALUE=DURATION:PT1H
X-Robots-Tag:noindex
X-PUBLISHED-TTL:PT1H
BEGIN:VTIMEZONE
TZID:America/Winnipeg
BEGIN:DAYLIGHT
TZOFFSETFROM:-0600
TZOFFSETTO:-0500
TZNAME:CDT
DTSTART:20250309T080000
END:DAYLIGHT
BEGIN:STANDARD
TZOFFSETFROM:-0500
TZOFFSETTO:-0600
TZNAME:CST
DTSTART:20251102T070000
END:STANDARD
BEGIN:DAYLIGHT
TZOFFSETFROM:-0600
TZOFFSETTO:-0500
TZNAME:CDT
DTSTART:20260308T080000
END:DAYLIGHT
BEGIN:STANDARD
TZOFFSETFROM:-0500
TZOFFSETTO:-0600
TZNAME:CST
DTSTART:20261101T070000
END:STANDARD
BEGIN:DAYLIGHT
TZOFFSETFROM:-0600
TZOFFSETTO:-0500
TZNAME:CDT
DTSTART:20270314T080000
END:DAYLIGHT
BEGIN:STANDARD
TZOFFSETFROM:-0500
TZOFFSETTO:-0600
TZNAME:CST
DTSTART:20271107T070000
END:STANDARD
END:VTIMEZONE
BEGIN:VEVENT
DTSTART;VALUE=DATE:20260422
DTEND;VALUE=DATE:20260423
DTSTAMP:20260422T142952
CREATED:20221003T135432Z
LAST-MODIFIED:20250914T222421Z
UID:10012957-1776816000-1776902399@www.stccs.ca
SUMMARY:Blue & Green Colour Day in Celebration of Earth Day
DESCRIPTION:
URL:https://www.stccs.ca/event/blue-green-colour-day-in-celebration-of-earth-day/
END:VEVENT
BEGIN:VEVENT
DTSTART;VALUE=DATE:20260422
DTEND;VALUE=DATE:20260423
DTSTAMP:20260422T142952
CREATED:20250110T203512Z
LAST-MODIFIED:20260112T192357Z
UID:10013802-1776816000-1776902399@www.stccs.ca
SUMMARY:Musical Practice
DESCRIPTION:
URL:https://www.stccs.ca/event/musical-practice/2026-04-22/
END:VEVENT
BEGIN:VEVENT
DTSTART;TZID=America/Winnipeg:20260422T153000
DTEND;TZID=America/Winnipeg:20260422T163000
DTSTAMP:20260422T142952
CREATED:20260416T210633Z
LAST-MODIFIED:20260416T210633Z
UID:10014787-1776871800-1776875400@www.stccs.ca
SUMMARY:Grade 6 Girls Badminton Practice (Singles & Doubles) | 3:30 - 4:30pm
DESCRIPTION:
URL:https://www.stccs.ca/event/grade-6-girls-badminton-practice-singles-doubles-330-430pm/
END:VEVENT
END:VCALENDAR